BEGIN:VCALENDAR
VERSION:2.0
PRODID:-//Dusty&#039;s Bar - ECPv5.8.1//NONSGML v1.0//EN
CALSCALE:GREGORIAN
METHOD:PUBLISH
X-WR-CALNAME:Dusty&#039;s Bar
X-ORIGINAL-URL:http://dustysbaranddagos.com
X-WR-CALDESC:Events for Dusty&#039;s Bar
BEGIN:VTIMEZONE
TZID:America/Chicago
BEGIN:DAYLIGHT
TZOFFSETFROM:-0600
TZOFFSETTO:-0500
TZNAME:CDT
DTSTART:20190310T080000
END:DAYLIGHT
BEGIN:STANDARD
TZOFFSETFROM:-0500
TZOFFSETTO:-0600
TZNAME:CST
DTSTART:20191103T070000
END:STANDARD
END:VTIMEZONE
BEGIN:VEVENT
DTSTART;TZID=America/Chicago:20191125T220000
DTEND;TZID=America/Chicago:20191126T013000
DTSTAMP:20260424T212020
CREATED:20191102T071840Z
LAST-MODIFIED:20191102T071840Z
UID:1610-1574719200-1574731800@dustysbaranddagos.com
SUMMARY:DJ's Records High with Nato Coles and Sara Pette
DESCRIPTION:DUSTY’S BAR IS GOING TO EXPERIENCE SOME RECORD HIGHS EVERY LAST MONDAY OF THE MONTH! BE THERE OR YOU MAY INSTEAD FEEL A NIGHTTIME LOW! \nNato Coles and Sara Pette are the Record Highs (get it?)\, DJing Dusty’s from 9:30pm or so (essentially\, when trivia ends) until about 1am! Dance\, drink\, party\, have fun late on a Monday… it’s gonna be a blast! The forecast is for Record Highs!
URL:http://dustysbaranddagos.com/event/djs-records-high-with-nato-coles-and-sara-pette/
LOCATION:Dusty’s Bar and Dagos\, 1319 Marshall St NE\, Minneapolis\, MN\, 55413\, United States
ATTACH;FMTTYPE=image/jpeg:http://dustysbaranddagos.com/wp-content/uploads/2019/11/73054505_10157344352704457_2350321587451854848_o.jpg
END:VEVENT
END:VCALENDAR