BEGIN:VCALENDAR
VERSION:2.0
PRODID:-//Dusty&#039;s Bar - ECPv5.8.1//NONSGML v1.0//EN
CALSCALE:GREGORIAN
METHOD:PUBLISH
X-WR-CALNAME:Dusty&#039;s Bar
X-ORIGINAL-URL:http://dustysbaranddagos.com
X-WR-CALDESC:Events for Dusty&#039;s Bar
BEGIN:VTIMEZONE
TZID:America/Chicago
BEGIN:DAYLIGHT
TZOFFSETFROM:-0600
TZOFFSETTO:-0500
TZNAME:CDT
DTSTART:20200308T080000
END:DAYLIGHT
BEGIN:STANDARD
TZOFFSETFROM:-0500
TZOFFSETTO:-0600
TZNAME:CST
DTSTART:20201101T070000
END:STANDARD
END:VTIMEZONE
BEGIN:VEVENT
DTSTART;TZID=America/Chicago:20200128T220000
DTEND;TZID=America/Chicago:20200129T013000
DTSTAMP:20260422T064649
CREATED:20191102T073125Z
LAST-MODIFIED:20191102T073125Z
UID:1620-1580248800-1580261400@dustysbaranddagos.com
SUMMARY:Dubs and Dusty Grooves with DJ Woody Roach and Friends
DESCRIPTION:Ba Ba Boom time… Every last Tuesday of the month\, come get some roots reggae with I Roach & Pals!  No cover\, Drink specials & food too. 10p.m needle drops. Joins us for some nice vibes…
URL:http://dustysbaranddagos.com/event/dubs-and-dusty-grooves-with-dj-woody-roach-and-friends-2/
LOCATION:Dusty’s Bar and Dagos\, 1319 Marshall St NE\, Minneapolis\, MN\, 55413\, United States
ATTACH;FMTTYPE=image/jpeg:http://dustysbaranddagos.com/wp-content/uploads/2019/11/44277369_10215064245152123_1346931856041312256_o.jpg
END:VEVENT
END:VCALENDAR