BEGIN:VCALENDAR
VERSION:2.0
PRODID:-//Dusty&#039;s Bar - ECPv5.8.1//NONSGML v1.0//EN
CALSCALE:GREGORIAN
METHOD:PUBLISH
X-WR-CALNAME:Dusty&#039;s Bar
X-ORIGINAL-URL:http://dustysbaranddagos.com
X-WR-CALDESC:Events for Dusty&#039;s Bar
BEGIN:VTIMEZONE
TZID:America/Chicago
BEGIN:DAYLIGHT
TZOFFSETFROM:-0600
TZOFFSETTO:-0500
TZNAME:CDT
DTSTART:20200308T080000
END:DAYLIGHT
BEGIN:STANDARD
TZOFFSETFROM:-0500
TZOFFSETTO:-0600
TZNAME:CST
DTSTART:20201101T070000
END:STANDARD
END:VTIMEZONE
BEGIN:VEVENT
DTSTART;TZID=America/Chicago:20200207T210000
DTEND;TZID=America/Chicago:20200208T000000
DTSTAMP:20260425T094755
CREATED:20191126T042847Z
LAST-MODIFIED:20191126T042847Z
UID:1716-1581109200-1581120000@dustysbaranddagos.com
SUMMARY:Rena Haus
DESCRIPTION:The one and only Rena Haus has been rockin’ the great green booth for years. Come see her and her impressive band (bro Bob on bass and Ed Petche on the six string) perform song favorites as only Rena Haus can! Great entertainment with something for everyone.
URL:http://dustysbaranddagos.com/event/rena-haus-6/
LOCATION:Dusty’s Bar and Dagos\, 1319 Marshall St NE\, Minneapolis\, MN\, 55413\, United States
ATTACH;FMTTYPE=image/png:http://dustysbaranddagos.com/wp-content/uploads/2017/12/rena_haus.png
END:VEVENT
END:VCALENDAR