BEGIN:VCALENDAR
VERSION:2.0
PRODID:-//Dusty&#039;s Bar - ECPv5.8.1//NONSGML v1.0//EN
CALSCALE:GREGORIAN
METHOD:PUBLISH
X-WR-CALNAME:Dusty&#039;s Bar
X-ORIGINAL-URL:http://dustysbaranddagos.com
X-WR-CALDESC:Events for Dusty&#039;s Bar
BEGIN:VTIMEZONE
TZID:America/Chicago
BEGIN:DAYLIGHT
TZOFFSETFROM:-0600
TZOFFSETTO:-0500
TZNAME:CDT
DTSTART:20200308T080000
END:DAYLIGHT
BEGIN:STANDARD
TZOFFSETFROM:-0500
TZOFFSETTO:-0600
TZNAME:CST
DTSTART:20201101T070000
END:STANDARD
END:VTIMEZONE
BEGIN:VEVENT
DTSTART;TZID=America/Chicago:20200201T214500
DTEND;TZID=America/Chicago:20200202T010000
DTSTAMP:20260422T094544
CREATED:20191130T221428Z
LAST-MODIFIED:20191130T221428Z
UID:1808-1580593500-1580605200@dustysbaranddagos.com
SUMMARY:The Bill Patten Trio
DESCRIPTION:The Bill Patten Trio (aka the bp3) is a Minneapolis based rock band that specializes in a fuzzed-up\, 60’s kinda mish mash of styles with effects-laden acoustic guitar (Bill Patten)\, bass (Jon Olson)\, and drums (Mark Har). Putting their spin on tunes from the Great American Songbook along with their original songs\, the Bill Patten Trio thrives on spontaneous sets and beer enthused audiences.
URL:http://dustysbaranddagos.com/event/the-bill-patten-trio-20/
LOCATION:Dusty’s Bar and Dagos\, 1319 Marshall St NE\, Minneapolis\, MN\, 55413\, United States
ATTACH;FMTTYPE=image/jpeg:http://dustysbaranddagos.com/wp-content/uploads/2017/12/bp3.jpg
END:VEVENT
END:VCALENDAR